BEGIN:VCALENDAR
VERSION:2.0
CALSCALE:GREGORIAN
PRODID:adamgibbons/ics
METHOD:PUBLISH
X-PUBLISHED-TTL:PT1H
BEGIN:VEVENT
UID:364@tricity.dance
SUMMARY:Blues\, Swing i Lindy Hop od podstaw - Darmowe zajęcia wprowadzając
	e
DTSTAMP:20260420T082714Z
DTSTART:20260412T090000Z
DTEND:20260412T120000Z
DESCRIPTION:Dołącz do naszej zwariowanej społeczności i weź udział w zajęci
	ach\nwprowadzających do swingu i lindy hopa\, a także zajęć bluesa! Przyjd
	ź i\nprzekonaj się\, ile radości dają tańce swingowe i bluesowe oraz jak f
	ajnie jest\nbudować z nami społeczność taneczną w Trójmieście\n\nZajęcia k
	osztują całe 0 złotych\, więc cena jest jak najbardziej korzystna\, a\nzal
	eży nam na dobrej zabawie\n\nSwing/ Lindy Hop - Chcesz nauczyć się kilku k
	roków i poznać "co to jest ten\nswing"\, a nóżka sama chodzi w rytm muzyki
	 lat 20-40? W takim razie zapraszamy\nserdecznie! Postaw swój pierwszy tan
	eczny krok razem z nami i bez obaw szalej na\nparkiecie - jeżeli lubisz za
	kręconych ludzi\, to wraz z nimi poznasz wszelkie\ntajniki\, kroki podstaw
	owe oraz charakterystykę lindy hopa i swingu\, aby\nwykorzystać nabyte umi
	ejętności na parkiecie i naszych imprezach. Naprawdę warto\n\nTaniec blues
	owy (a w zasadzie tańce\, ponieważ jest to grupa tańców) pochodzi od\ntańc
	ów afrykańskich\, więc polega przede wszystkim na zabawie rytmami\, podobn
	ej\ndo body drummingu\, kształtach i improwizacji z tańców afrykańskich (e
	stetyka\ntaneczna)\, ale do muzyki bluesowej i jazzowej. Bluesa się czuje 
	i tańczy się go\,\naby dobrze się czuć i stać się częścią lokalnej społecz
	ności\, bardziej niż\npięknie wyglądać w tańcu\n\nTermin i godzina: niedzi
	ela 29 marca\, 11:00 - 12:30 swing i 12:50 - 14:20 blues\nMiejsce zajęć: L
	atino Cafe\, Cypriana Norwida 4C\, Gdynia\nKoszt zajęć: darmowe\n\nPo zaję
	ciach wprowadzających można dołączyć do dwóch grup zajęciowych:\n- swingu 
	od podstaw w środy między 19 a 20 w YMCA przy Żermoskiego 26 w Gdyni\n(moż
	na już teraz)\n- bluesa w parach w poniedziałki między 20 a 21 w Latino Ca
	fe przy Norwida 4c w\nGdyni (od kwietnia)\nLUB: bluesa solo w tym samym mi
	ejscu w poniedziałki od 19 do 20 (można już\nteraz)\n\nZapisy na zajęcia d
	ostępne poprzez formularz:\nhttps://forms.gle/kPtYnoRKTXHSXniZ6 [https://f
	orms.gle/kPtYnoRKTXHSXniZ6]\n\nSedrecznie zapraszamy\n\nZachęcamy\, namawi
	amy\, zapraszamy\n\n\nSee less
URL:https://tricity.dance/event/blues-swing-i-lindy-hop-od-podstaw-darmowe-
	zajecia-wprowadzajace-1
LOCATION:Latino Cafe - Cypriana Norwida 4c\, Gdynia
STATUS:CONFIRMED
CATEGORIES:warsztaty,Blues,Swing,Lindy hop
X-ALT-DESC;FMTTYPE=text/html:<p>Dołącz do naszej zwariowanej społeczności i
	 weź udział w zajęciach wprowadzających do swingu i lindy hopa, a także za
	jęć bluesa! Przyjdź i przekonaj się, ile radości dają tańce swingowe i blu
	esowe oraz jak fajnie jest budować z nami społeczność taneczną w Trójmieśc
	ie</p><p>Zajęcia kosztują całe 0 złotych, więc cena jest jak najbardziej k
	orzystna, a zależy nam na dobrej zabawie</p><p>Swing/ Lindy Hop - Chcesz n
	auczyć się kilku kroków i poznać "co to jest ten swing", a nóżka sama chod
	zi w rytm muzyki lat 20-40? W takim razie zapraszamy serdecznie! Postaw sw
	ój pierwszy taneczny krok razem z nami i bez obaw szalej na parkiecie - je
	żeli lubisz zakręconych ludzi, to wraz z nimi poznasz wszelkie tajniki, kr
	oki podstawowe oraz charakterystykę lindy hopa i swingu, aby wykorzystać n
	abyte umiejętności na parkiecie i naszych imprezach. Naprawdę warto</p><p>
	Taniec bluesowy (a w zasadzie tańce, ponieważ jest to grupa tańców) pochod
	zi od tańców afrykańskich, więc polega przede wszystkim na zabawie rytmami
	, podobnej do body drummingu, kształtach i improwizacji z tańców afrykańsk
	ich (estetyka taneczna), ale do muzyki bluesowej i jazzowej. Bluesa się cz
	uje i tańczy się go, aby dobrze się czuć i stać się częścią lokalnej społe
	czności, bardziej niż pięknie wyglądać w tańcu</p><p>Termin i godzina: nie
	dziela 29 marca, 11:00 - 12:30 swing i 12:50 - 14:20 blues<br>Miejsce zaję
	ć: Latino Cafe, Cypriana Norwida 4C, Gdynia<br>Koszt zajęć: darmowe</p><p>
	Po zajęciach wprowadzających można dołączyć do dwóch grup zajęciowych:<br>
	- swingu od podstaw w środy między 19 a 20 w YMCA przy Żermoskiego 26 w Gd
	yni (można już teraz)<br>- bluesa w parach w poniedziałki między 20 a 21 w
	 Latino Cafe przy Norwida 4c w Gdyni (od kwietnia)<br>LUB: bluesa solo w t
	ym samym miejscu w poniedziałki od 19 do 20 (można już teraz)</p><p>Zapisy
	 na zajęcia dostępne poprzez formularz:<br><a href="https://forms.gle/kPtY
	noRKTXHSXniZ6" target="_blank"><strong>https://forms.gle/kPtYnoRKTXHSXniZ6
	</strong></a></p><p>Sedrecznie zapraszamy</p><p>Zachęcamy, namawiamy, zapr
	aszamy <br></p><p><strong>See less</strong></p>
END:VEVENT
BEGIN:VEVENT
UID:351@tricity.dance
SUMMARY:Wolno tańczyć wolno! - Weekend ze slow lindy i bluesem
DTSTAMP:20260420T082714Z
DTSTART:20260306T190000Z
DTEND:20260308T160000Z
DESCRIPTION:wydarzenie: https://www.facebook.com/events/801993839578956\n[h
	ttps://www.facebook.com/events/801993839578956]\n\n-----------------------
	--------------------\n\nWOLNO TAŃCZYĆ WOLNO – Weekend Slow Lindy & Bluesa!
	\n\nZ okazji Dnia Kobiet zapraszamy Was serdecznie na weekend tańca w temp
	ie\, które\npozwala improwizować\, zainicjować dialog taneczny i wczuć się
	 w historię\nopowiedzianą ruchem. Idealny dla tych\, którzy kochają slow!\
	n\nSame warsztaty skupią się na Slow Lindy i Bluesie Ballroomowym\, natomi
	ast na\nimprezach muzyka jazzujaca pozwoli nam na tańczenie dowolnej formy
	 slow (slow\ndance\, ballroom blues\, slow lindy\, slow balboa).\n\nHarmon
	ogram:\n\nPiątek\, 6.03 – Swing dla początkującychl: 19:00–20:30 (1\,5 h)\
	nSobota\, 7.03 – Slow Lindy: 11:00–12:30 + Blues: 12:45–14:15 (2 x 1.5 h)\
	, Blues w\nparach dla poczatkujących 18:30 -19:30 (1h)\nNiedziela\, 8.03 –
	 Slow Lindy: 11:00–12:30 + Blues: 12:45–14:15 (2 x 1.5 h)\n\nCo Cię czeka 
	na zajęciach?\nSlow Lindy: Taniec w otwartej i zamkniętej pozycji\, ulubio
	ne dipy\, opowiadanie\nhistorii w tańcu. Odkryj zmiany energii\, płynne pr
	zejścia z pozycji otwartej do\nzamkniętej i z powrotem\, przyspieszenia\, 
	akcenty oraz elementy muzykalności\,\nktóre nadadzą Twojemu ruchowi elegan
	cji\, płynności i dynamiki.\nBlues: Ballroom blues w wygodnej\, bliższej p
	ozycji. Skrętny Drag Blues\,\nprowadzenie klatką i biodrami\, eksperymenty
	 z kształtami ciała. Płynne\nwychodzenia z bliskości i powroty do niej\, p
	lus przepływ energii w tańcu po kole\n– dla pełnego zanurzenia w bluesowym
	 flow.\n\nMiejsce: zajęcia slow lindy i bluesa odbędą się w Latino Cafe pr
	zy ulicy\nCypriana Norwida 4c\n\nCena:\n2 bloki slow lindy (3 godziny) - 1
	60 zł [150 zł dla uczniów HB]\n2 bloki bluesa (3 godziny) - 160 zł [150 zł
	 dla uczniów HB]\nzajecia slow lindy i bluesa w pakiecie (6 godzin) - 300 
	zł [280 zł dla uczniów\nHB]\nzajęcia dla początkujących w piątek i sobotę 
	w ramach biletu wstępu (po\nwcześniejszym zapisaniu się)\n\nPoziom: Na Slo
	w Dance i Slow Lindy zapraszamy wszystkich\, którzy tańczą Lindy\nminimum 
	od dwóch lat\, znają podstawowe elementy Lindy Hopa. Na Bluesa zapraszamy\
	nosoby\, które mają chociaż niewielkie doświadczenie w tańcu w pozycji zam
	kniętej\ni/lub bliższej\, do wolnego tempa (tancerzy bluesa\, tańców towar
	zyskich\, slow\nbalboa).\nUwaga! Dla osób początkujących mamy osobne zajęc
	ia\n\nZapisy:\n\nhttps://forms.gle/wNLDHekd22EqA788A [https://forms.gle/wN
	LDHekd22EqA788A]\n\nImprezy\nMiło nam ogłosić\, że rozpoczynamy nową formu
	łę imprez: potańcówki bluesowe z\nmuzyką na żywo W sobotę wieczorem duet w
	 składzie Tomek Kruk i Felipe Schrieberg\nzagrają dla nas w Konsulacie Kul
	tury! Wieczór dopełni DJka slow w wydaniu\nwspaniałych DJów Harlem Beats B
	ardzo się cieszymy i nie możemy się już doczekać\nImpreza nie będzie do pó
	źna\, ale tych spragnionych tańców zapraszamy potem na\nPeron\, gdzie Shim
	 Sham Trójmiasto będzie robić swoją imprezę taneczną.\n\nW piątek\, tuż po
	 zajęciach dla początkujących\, testujemy również nowość -\ndomówkę z DJką
	 graną m. in. za pomocą… płyt winylowych!!! Wpadajcie na winylową\nimprezk
	ę slow Wybrzmieją soczyste i jazzujące wolne kawałki\, do których\nzatańcz
	ycie wszelakie formy slow - od ballroom bluesa aż po slow lindy i slow\nba
	lboa (miejsce jeszcze potwierdzimy)\n
URL:https://tricity.dance/event/wolno-tanczyc-wolno-weekend-ze-slow-lindy-i
	-bluesem
LOCATION:Latino Cafe - Cypriana Norwida 4c\, Gdynia
STATUS:CONFIRMED
CATEGORIES:warsztaty,Gdynia,Blues,slow lindy
X-ALT-DESC;FMTTYPE=text/html:<p>wydarzenie: <a target="_blank" href="https:
	//www.facebook.com/events/801993839578956">https://www.facebook.com/events
	/801993839578956</a></p><p>-------------------------------------------</p>
	<p>WOLNO TAŃCZYĆ WOLNO – Weekend Slow Lindy &amp; Bluesa! </p><p>Z okazji 
	Dnia Kobiet zapraszamy Was serdecznie na weekend tańca w tempie, które poz
	wala improwizować, zainicjować dialog taneczny i wczuć się w historię opow
	iedzianą ruchem. Idealny dla tych, którzy kochają slow! </p><p>Same warszt
	aty skupią się na Slow Lindy i Bluesie Ballroomowym, natomiast na imprezac
	h muzyka jazzujaca pozwoli nam na tańczenie dowolnej formy slow (slow danc
	e, ballroom blues, slow lindy, slow balboa). </p><p><strong>Harmonogram:</
	strong> </p><p>Piątek, 6.03 – Swing dla początkującychl: 19:00–20:30 (1,5 
	h) <br>Sobota, 7.03 – Slow Lindy: 11:00–12:30 + Blues: 12:45–14:15 (2 x 1.
	5 h), Blues w parach dla poczatkujących 18:30 -19:30 (1h) <br>Niedziela, 8
	.03 – Slow Lindy: 11:00–12:30 + Blues: 12:45–14:15 (2 x 1.5 h) </p><p>Co C
	ię czeka na zajęciach? <br>Slow Lindy: Taniec w otwartej i zamkniętej pozy
	cji, ulubione dipy, opowiadanie historii w tańcu. Odkryj zmiany energii, p
	łynne przejścia z pozycji otwartej do zamkniętej i z powrotem, przyspiesze
	nia, akcenty oraz elementy muzykalności, które nadadzą Twojemu ruchowi ele
	gancji, płynności i dynamiki. <br>Blues: Ballroom blues w wygodnej, bliższ
	ej pozycji. Skrętny Drag Blues, prowadzenie klatką i biodrami, eksperyment
	y z kształtami ciała. Płynne wychodzenia z bliskości i powroty do niej, pl
	us przepływ energii w tańcu po kole – dla pełnego zanurzenia w bluesowym f
	low. </p><p><strong>Miejsce</strong>: zajęcia slow lindy i bluesa odbędą s
	ię w Latino Cafe przy ulicy Cypriana Norwida 4c </p><p><strong>Cena</stron
	g>: <br>2 bloki slow lindy (3 godziny) - 160 zł [150 zł dla uczniów HB] <b
	r>2 bloki bluesa (3 godziny) - 160 zł [150 zł dla uczniów HB] <br>zajecia 
	slow lindy i bluesa w pakiecie (6 godzin) - 300 zł [280 zł dla uczniów HB]
	 <br>zajęcia dla początkujących w piątek i sobotę w ramach biletu wstępu (
	po wcześniejszym zapisaniu się) </p><p>Poziom: Na Slow Dance i Slow Lindy 
	zapraszamy wszystkich, którzy tańczą Lindy minimum od dwóch lat, znają pod
	stawowe elementy Lindy Hopa. Na Bluesa zapraszamy osoby, które mają chocia
	ż niewielkie doświadczenie w tańcu w pozycji zamkniętej i/lub bliższej, do
	 wolnego tempa (tancerzy bluesa, tańców towarzyskich, slow balboa). <br>Uw
	aga! Dla osób początkujących mamy osobne zajęcia </p><p><strong>Zapisy</st
	rong>: </p><p><a target="_blank" href="https://forms.gle/wNLDHekd22EqA788A
	"><strong><u>https://forms.gle/wNLDHekd22EqA788A</u></strong></a></p><p><s
	trong>Imprezy</strong> <br>Miło nam ogłosić, że rozpoczynamy nową formułę 
	imprez: potańcówki bluesowe z muzyką na żywo W sobotę wieczorem duet w skł
	adzie Tomek Kruk i Felipe Schrieberg zagrają dla nas w Konsulacie Kultury!
	 Wieczór dopełni DJka slow w wydaniu wspaniałych DJów Harlem Beats Bardzo 
	się cieszymy i nie możemy się już doczekać Impreza nie będzie do późna, al
	e tych spragnionych tańców zapraszamy potem na Peron, gdzie Shim Sham Trój
	miasto będzie robić swoją imprezę taneczną. </p><p>W piątek, tuż po zajęci
	ach dla początkujących, testujemy również nowość - domówkę z DJką graną m.
	 in. za pomocą… płyt winylowych!!! Wpadajcie na winylową imprezkę slow Wyb
	rzmieją soczyste i jazzujące wolne kawałki, do których zatańczycie wszelak
	ie formy slow - od ballroom bluesa aż po slow lindy i slow balboa (miejsce
	 jeszcze potwierdzimy) <br></p>
END:VEVENT
BEGIN:VEVENT
UID:236@tricity.dance
SUMMARY:Master Your Skills - weekend taneczny w Harlem Beats
DTSTAMP:20260420T082714Z
DTSTART:20250228T170000Z
DTEND:20250302T150000Z
DESCRIPTION:Odpowiadając na Wasze zapotrzebowanie organizujemy warsztaty sk
	ierowane do osób\,\nktóre chcą popracować nad swoją techniką i dobrze się 
	pobawić\n\nCo w planie? W piątek zaczynamy wstępem do bluesa a następnie r
	ozgrzewamy\nparkiet w czasie imprezy w Konsulacie\n\nA na sobotę przygotow
	aliśm:\n- zajęcia specjalnie dla followerek\, gdzie poszukacie własnego st
	ylu\n- Turbo ważne ćwiczenia na połączenie w parze w kontekście świadomośc
	i ciała\n- Zajęcia tylko dla leaderów\, gdzie poprzez zabawę wejdziemy w d
	etale\nwięcej szczegółów wkrótce\n\nBlues w parach z Andrzejem i Malwiną (
	w Konsulacie Kultury) - Chcesz nauczyć się\nkilku kroków i poznać "co to j
	est ten blues"\, a nóżka sama chodzi w rytm muzyki\nMuddyego Watersa\, Ett
	y James\, Reya Charles'a? W takim razie zapraszamy\nserdecznie! Tańce blue
	sowe to prawdziwa radość dla wszystkich tych\, co lubią\nbluesa\, funk ora
	z nowoorleański jazz Blues to taniec improwizowany\, rytmiczny\,\nbardzo u
	walniający wszelakie złe emocje\, uczący dialogu w parze (w tańcu\, jak i\
	nżyciu \;))\, uwrażliwia na różne gatunki muzyczne i pokazuje\, że każdy z
	 nas\nnaturalnie czuje muzykę i jest instrumentem we wspólnej kapeli\n\nza
	jęcia specjalnie dla followerek z Agnieszką\, gdzie poszukacie własnego st
	ylu -\nSkorzystamy z inspiracji tancerkami Harlemu (tzw Harlem Cuties) do 
	tego\, aby\nprzez chwilę spojrzeć na siebie w tańcu solo (authentic jazz).
	 Zerkniemy\, co\nmożemy uruchomić w naszych kręgosłupach\, jak ułożyć dłon
	ie\, etc. Następnie\nbędzie tańczyć solo i w parze (tak\, tak\, poprowadzi
	my dla siebie super proste\nelementy typu send out) i na nich potestujemy 
	różne footworki oraz kształty\,\nktóre pomogą nam poszukać własnego stylu.
	 Zajęcia przeznaczone dla followerek\ntańczących w parach i mających dośwa
	idczenie w lindy hop\n\nTurbo ważne ćwiczenia na połączenie w parze w kont
	ekście świadomości ciała z\nKonradem i Agnieszką - Świadome połączenie w p
	arze to technika\, która odgrywa\nkluczową rolę w tańcu. To pojęcie odnosi
	 się do wzajemnej\, świadomej komunikacji\npomiędzy partnerami\, opierając
	ej się na wzajemnym zaufaniu\, precyzyjnych\nsygnałach i delikatnym "czuci
	u" partnera. W tym kontekście chodzi o umiejętność\nreagowania na subtelne
	 ruchy\, gesty i napięcia ciała drugiej osoby w sposób\npłynny i harmonijn
	y. Zajęcia przeznaczone dla osób tańczących w parach i\nmających dośwaidcz
	enie w lindy hop\n\nZajęcia tylko dla leaderów z Konradem\, gdzie poprzez 
	zabawę wejdziemy w detale -\nZajęcia dla liderów mają na celu rozwijanie r
	óżnych umiejętności związanych z\nprowadzeniem partnera\, techniką tańca o
	raz świadomością związków\nprzyczynowo-skutkowych. Popracujemy nad technik
	ą prowadzenia\, precyzyjnym\nruchem\, równowaga i postawą oraz komunikacją
	 z drugą osobą. Znacie mnie - będzie\nintensywnie ale i z wąsem. Zajęcia p
	rzeznaczone dla każdego\n\nHarmonogram:\n\nBlues w parach - 18:00 - 19:30\
	, piątek 28.02\, Konsulat Kultury\nZajęcia dla followerek - 11:00- 12:30 \
	, Latino Cafe (sobota)\nTrubo ważne ćwiczenia na połączenie - 12:45 - 14:1
	5 \, Latino Cafe (sobota)\nZajęcia dla leaderów - 14:30 - 16:00\, Latino C
	afe (sobota)\n\nCENNIK I ZAPISY dla osób spoza Harlem Beats:\npiątkowy blu
	es w parach - 40 zł\njeden blok sobotnich warsztatów - 70 zł\ndwa bloki so
	botnich warsztatów - 120 żł\n\nCENNIK I ZAPISY dla uczniów HB\npiątkowy bl
	ues w parach - 30 zł\njeden blok sobotnich warsztatów - 60 zł\ndwa bloki s
	obotnich warsztatów - 100 żł\n\nREJESTRAJCA:\nhttps://forms.gle/C18b4MvUVG
	KKodYy7 [https://forms.gle/C18b4MvUVGKKodYy7]\n\nZapisy w parze wymagają w
	ypełnienia formularza przez obydwie osoby\n\nW razie pytań - pytajcie\nhar
	lembeatsstudio@gmail.com\n\nDo zobaczenia!
URL:https://tricity.dance/event/master-your-skills-weekend-taneczny-w-harle
	m-beats
LOCATION:Latino Cafe - Cypriana Norwida 4c\, Gdynia
STATUS:CONFIRMED
CATEGORIES:Swing,warsztaty,Blues,Gdynia
X-ALT-DESC;FMTTYPE=text/html:<p>Odpowiadając na Wasze zapotrzebowanie organ
	izujemy warsztaty skierowane do osób, które chcą popracować nad swoją tech
	niką i dobrze się pobawić</p><p>Co w planie? W piątek zaczynamy wstępem do
	 bluesa a następnie rozgrzewamy parkiet w czasie imprezy w Konsulacie</p><
	p>A na sobotę przygotowaliśm:<br>- zajęcia specjalnie dla followerek, gdzi
	e poszukacie własnego stylu<br>- Turbo ważne ćwiczenia na połączenie w par
	ze w kontekście świadomości ciała<br>- Zajęcia tylko dla leaderów, gdzie p
	oprzez zabawę wejdziemy w detale<br>więcej szczegółów wkrótce</p><p>Blues 
	w parach z Andrzejem i Malwiną (w Konsulacie Kultury) - Chcesz nauczyć się
	 kilku kroków i poznać "co to jest ten blues", a nóżka sama chodzi w rytm 
	muzyki Muddyego Watersa, Etty James, Reya Charles'a? W takim razie zaprasz
	amy serdecznie! Tańce bluesowe to prawdziwa radość dla wszystkich tych, co
	 lubią bluesa, funk oraz nowoorleański jazz Blues to taniec improwizowany,
	 rytmiczny, bardzo uwalniający wszelakie złe emocje, uczący dialogu w parz
	e (w tańcu, jak i życiu ;)), uwrażliwia na różne gatunki muzyczne i pokazu
	je, że każdy z nas naturalnie czuje muzykę i jest instrumentem we wspólnej
	 kapeli</p><p>zajęcia specjalnie dla followerek z Agnieszką, gdzie poszuka
	cie własnego stylu - Skorzystamy z inspiracji tancerkami Harlemu (tzw Harl
	em Cuties) do tego, aby przez chwilę spojrzeć na siebie w tańcu solo (auth
	entic jazz). Zerkniemy, co możemy uruchomić w naszych kręgosłupach, jak uł
	ożyć dłonie, etc. Następnie będzie tańczyć solo i w parze (tak, tak, popro
	wadzimy dla siebie super proste elementy typu send out) i na nich potestuj
	emy różne footworki oraz kształty, które pomogą nam poszukać własnego styl
	u. Zajęcia przeznaczone dla followerek tańczących w parach i mających dośw
	aidczenie w lindy hop</p><p>Turbo ważne ćwiczenia na połączenie w parze w 
	kontekście świadomości ciała z Konradem i Agnieszką - Świadome połączenie 
	w parze to technika, która odgrywa kluczową rolę w tańcu. To pojęcie odnos
	i się do wzajemnej, świadomej komunikacji pomiędzy partnerami, opierającej
	 się na wzajemnym zaufaniu, precyzyjnych sygnałach i delikatnym "czuciu" p
	artnera. W tym kontekście chodzi o umiejętność reagowania na subtelne ruch
	y, gesty i napięcia ciała drugiej osoby w sposób płynny i harmonijny. Zaję
	cia przeznaczone dla osób tańczących w parach i mających dośwaidczenie w l
	indy hop</p><p>Zajęcia tylko dla leaderów z Konradem, gdzie poprzez zabawę
	 wejdziemy w detale - Zajęcia dla liderów mają na celu rozwijanie różnych 
	umiejętności związanych z prowadzeniem partnera, techniką tańca oraz świad
	omością związków przyczynowo-skutkowych. Popracujemy nad techniką prowadze
	nia, precyzyjnym ruchem, równowaga i postawą oraz komunikacją z drugą osob
	ą. Znacie mnie - będzie intensywnie ale i z wąsem. Zajęcia przeznaczone dl
	a każdego</p><p>Harmonogram:</p><p>Blues w parach - 18:00 - 19:30, piątek 
	28.02, Konsulat Kultury<br> Zajęcia dla followerek - 11:00- 12:30 , Latino
	 Cafe (sobota)<br> Trubo ważne ćwiczenia na połączenie - 12:45 - 14:15 , L
	atino Cafe (sobota)<br> Zajęcia dla leaderów - 14:30 - 16:00, Latino Cafe 
	(sobota)</p><p>CENNIK I ZAPISY dla osób spoza Harlem Beats:<br>piątkowy bl
	ues w parach - 40 zł<br> jeden blok sobotnich warsztatów - 70 zł<br>dwa bl
	oki sobotnich warsztatów - 120 żł</p><p>CENNIK I ZAPISY dla uczniów HB<br>
	piątkowy blues w parach - 30 zł<br> jeden blok sobotnich warsztatów - 60 z
	ł<br>dwa bloki sobotnich warsztatów - 100 żł</p><p>REJESTRAJCA:<br><a targ
	et="_blank" href="https://forms.gle/C18b4MvUVGKKodYy7"><strong>https://for
	ms.gle/C18b4MvUVGKKodYy7</strong></a></p><p>Zapisy w parze wymagają wypełn
	ienia formularza przez obydwie osoby</p><p>W razie pytań - pytajcie <br>ha
	rlembeatsstudio@gmail.com</p><p>Do zobaczenia!</p>
END:VEVENT
END:VCALENDAR
